BEGIN:VCALENDAR
VERSION:2.0
PRODID:-//CSD Connect | Digital Marketing, CRM &amp; Business Support Tools - ECPv6.15.20//NONSGML v1.0//EN
CALSCALE:GREGORIAN
METHOD:PUBLISH
X-ORIGINAL-URL:https://csdconnect.com
X-WR-CALDESC:Events for CSD Connect | Digital Marketing, CRM &amp; Business Support Tools
REFRESH-INTERVAL;VALUE=DURATION:PT1H
X-Robots-Tag:noindex
X-PUBLISHED-TTL:PT1H
BEGIN:VTIMEZONE
TZID:America/Los_Angeles
BEGIN:DAYLIGHT
TZOFFSETFROM:-0800
TZOFFSETTO:-0700
TZNAME:PDT
DTSTART:20250309T100000
END:DAYLIGHT
BEGIN:STANDARD
TZOFFSETFROM:-0700
TZOFFSETTO:-0800
TZNAME:PST
DTSTART:20251102T090000
END:STANDARD
BEGIN:DAYLIGHT
TZOFFSETFROM:-0800
TZOFFSETTO:-0700
TZNAME:PDT
DTSTART:20260308T100000
END:DAYLIGHT
BEGIN:STANDARD
TZOFFSETFROM:-0700
TZOFFSETTO:-0800
TZNAME:PST
DTSTART:20261101T090000
END:STANDARD
BEGIN:DAYLIGHT
TZOFFSETFROM:-0800
TZOFFSETTO:-0700
TZNAME:PDT
DTSTART:20270314T100000
END:DAYLIGHT
BEGIN:STANDARD
TZOFFSETFROM:-0700
TZOFFSETTO:-0800
TZNAME:PST
DTSTART:20271107T090000
END:STANDARD
END:VTIMEZONE
BEGIN:VEVENT
DTSTART;TZID=America/Los_Angeles:20260108T170000
DTEND;TZID=America/Los_Angeles:20260108T200000
DTSTAMP:20260422T041631
CREATED:20251022T184627Z
LAST-MODIFIED:20251022T194030Z
UID:5507-1767891600-1767902400@csdconnect.com
SUMMARY:SD Networking Events Business Mixer
DESCRIPTION:San Diego’s fastest-growing business community is back with another high-energy SD Networking Events Business Mixer—where entrepreneurs\, business owners\, and professionals connect\, collaborate\, and grow.\n✅ Don’t like using PayPal? Grab your tickets here:\n👉 Reserve Tickets on Alternate Platform \nWhy Attend?\nOur Business Mixers are designed for networking and fun—with meaningful connections at the core. Each event brings together: \n\nEntrepreneurs & Startups ready to grow\nCorporate professionals looking to expand their reach\nNon-profits & community leaders in education\, healthcare\, and beyond\n\nYou’ll often hear from expert speakers sharing empowerment-focused insights while enjoying a vibrant\, social atmosphere. \nWhat You’ll Gain:\n\nExpand Your Network – Meet potential clients\, partners\, and collaborators\nPromote Your Business – Share your brand with 150\,000+ professionals across San Diego\nBuild Real Relationships – Engage in authentic conversations that spark opportunity\nBoost Your Skills & Insights – Learn from industry experts and peers\nStay Ahead – Be part of San Diego’s fastest-growing networking community\n\n🎟 Tickets Are Selling Out Fast\nNearly every SD Networking Event in 2025 has SOLD OUT.\nAdvance Access Tickets are limited—once they’re gone\, they’re gone.\n👉 Secure your spot today and be part of San Diego’s premier networking experience.\n🔥 Don’t wait—join the movement\, grow your network\, and have fun doing it.								\n									Get Your Tickets
URL:https://csdconnect.com/event/sd-networking-events-business-mixer/
LOCATION:STK Steakhouse\, 600 F Street\, San Diego\, CA\, 92101\, United States
CATEGORIES:Networking Events
ATTACH;FMTTYPE=image/jpeg:https://csdconnect.com/wp-content/uploads/2025/10/SD-Networking.jpg
ORGANIZER;CN="SD Networking Events":MAILTO:sdnetworkingevents@gmail.com
END:VEVENT
END:VCALENDAR