BEGIN:VCALENDAR
VERSION:2.0
PRODID:-//CSD Connect | Digital Marketing, CRM &amp; Business Support Tools - ECPv6.15.20//NONSGML v1.0//EN
CALSCALE:GREGORIAN
METHOD:PUBLISH
X-WR-CALNAME:CSD Connect | Digital Marketing, CRM &amp; Business Support Tools
X-ORIGINAL-URL:https://csdconnect.com
X-WR-CALDESC:Events for CSD Connect | Digital Marketing, CRM &amp; Business Support Tools
REFRESH-INTERVAL;VALUE=DURATION:PT1H
X-Robots-Tag:noindex
X-PUBLISHED-TTL:PT1H
BEGIN:VTIMEZONE
TZID:America/Los_Angeles
BEGIN:DAYLIGHT
TZOFFSETFROM:-0800
TZOFFSETTO:-0700
TZNAME:PDT
DTSTART:20250309T100000
END:DAYLIGHT
BEGIN:STANDARD
TZOFFSETFROM:-0700
TZOFFSETTO:-0800
TZNAME:PST
DTSTART:20251102T090000
END:STANDARD
BEGIN:DAYLIGHT
TZOFFSETFROM:-0800
TZOFFSETTO:-0700
TZNAME:PDT
DTSTART:20260308T100000
END:DAYLIGHT
BEGIN:STANDARD
TZOFFSETFROM:-0700
TZOFFSETTO:-0800
TZNAME:PST
DTSTART:20261101T090000
END:STANDARD
BEGIN:DAYLIGHT
TZOFFSETFROM:-0800
TZOFFSETTO:-0700
TZNAME:PDT
DTSTART:20270314T100000
END:DAYLIGHT
BEGIN:STANDARD
TZOFFSETFROM:-0700
TZOFFSETTO:-0800
TZNAME:PST
DTSTART:20271107T090000
END:STANDARD
END:VTIMEZONE
BEGIN:VEVENT
DTSTART;TZID=America/Los_Angeles:20260423T180000
DTEND;TZID=America/Los_Angeles:20260423T190000
DTSTAMP:20260420T164228
CREATED:20260325T071528Z
LAST-MODIFIED:20260325T071528Z
UID:5684-1776967200-1776970800@csdconnect.com
SUMMARY:B6 Program Series: How to List Your Business In Black San Diego Directory
DESCRIPTION:Learn How to List Your Business in the Black San Diego Directory\nAre you a Black-owned business looking for more visibility in San Diego? Join us for the next B6 Program Series workshop\, where Courtney Dade of CSD Marketing will walk you through how to successfully list and optimize your business in the Black San Diego Directory. \nDuring this step-by-step session\, you’ll learn how to complete your listing\, choose the right photos\, and provide the information customers need to easily find and support your business. \nThis is a great opportunity for entrepreneurs who want to strengthen their online presence and connect with the growing Black San Diego community. \nDate: April 23Time: 6:00 PM – 7:00 PMLocation: Zoom
URL:https://csdconnect.com/event/b6-program-series-how-to-list-your-business-in-black-san-diego-directory/
CATEGORIES:Workshops
ATTACH;FMTTYPE=image/jpeg:https://csdconnect.com/wp-content/uploads/2026/03/656214848_2189756521854691_6914590750494693162_n.jpg
ORGANIZER;CN="Black San Diego":MAILTO:info@ourblacksd.com
END:VEVENT
END:VCALENDAR